BEGIN:VCALENDAR
VERSION:2.0
PRODID:-//ChamberMaster//Event Calendar 2.0//EN
METHOD:PUBLISH
X-PUBLISHED-TTL:P3D
REFRESH-INTERVAL:P3D
CALSCALE:GREGORIAN
BEGIN:VEVENT
DTSTART:20250201T230000Z
DTEND:20250202T040000Z
X-MICROSOFT-CDO-ALLDAYEVENT:FALSE
SUMMARY:Snowflake Gala 2025
DESCRIPTION:Join us for the 2025 Snowflake Gala!\n\nThis highly-anticipated\, exquisite\, black-tie-optional event is set to take place at the picturesque Raphael Vineyard on February 1st\, from 6:00 PM to 11:00 PM. There's gourmet food\, live music\, and dancing.\n\n\n\nOur honorees for 2025 are The Hellenic Snack Bar and the East End Seaport Museum. \n\n\n\nIt will be a wonderful evening celebrating the contributions of these honorees. \n\n \n\nWe're sure\, as always\, it'll be a night to remember.\n\nClick the "Register" link to RSVP.\n\n\n\nTickets are $150/person and $250/couple.
X-ALT-DESC;FMTTYPE=text/html:<p style="line-height: inherit\; margin: 0px\; color: rgb(0\, 0\, 0)\; font-family: Montserrat\, sans-serif\; font-size: 13.3333px\;"><span style="line-height: inherit\; font-size: 16px\;">Join us for the 2025 Snowflake Gala!<br />\nThis highly-anticipated\, exquisite\, black-tie-optional event is set to take place at the picturesque&nbsp\;<a data-saferedirecturl="https://www.google.com/url?q=http://business.northforkchamber.org/communication/link?l%3De0f1b8ebb207cd632c1c70164d6211dc%26i%3D56418&amp\;source=gmail&amp\;ust=1703712498688000&amp\;usg=AOvVaw2KtPExSXoL0KBPddLweizB" href="http://business.northforkchamber.org/communication/link?l=e0f1b8ebb207cd632c1c70164d6211dc&amp\;i=56418" rel="noopener" style="line-height: inherit\; color: rgb(0\, 0\, 238)\;" target="_blank">Raphael Vineyard</a>&nbsp\;on February 1st\, from 6:00 PM to 11:00 PM. There&#39\;s gourmet food\, live music\, and dancing.</span></p>\n\n<p style="line-height: inherit\; margin: 0px\; color: rgb(0\, 0\, 0)\; font-family: Montserrat\, sans-serif\; font-size: 13.3333px\;"><br />\n<span style="font-size:16px\;">Our honorees for 2025 are The Hellenic Snack Bar and the East End Seaport Museum.&nbsp\;<br />\n<br />\nIt will be a wonderful evening celebrating the contributions of these honorees.&nbsp\;</span><br />\n&nbsp\;</p>\n\n<p style="line-height: inherit\; margin: 0px\; color: rgb(0\, 0\, 0)\; font-family: Montserrat\, sans-serif\; font-size: 13.3333px\;"><span style="line-height: inherit\; font-size: 16px\;">We&#39\;re sure\, as always\, it&#39\;ll be a night to remember.<br />\nClick the &quot\;Register&quot\; link to RSVP.<br />\n<br />\nTickets are $150/person and $250/couple.&nbsp\;</span><br />\n<br />\n&nbsp\;</p>\n
LOCATION:Raphael Vineyard 39390 Main Road Peconic\, NY 11958
UID:e.3612.887
SEQUENCE:3
DTSTAMP:20260423T145839Z
URL:https://northfork-gzcms.preview.gochambermaster.com/events/details/snowflake-gala-2025-887
END:VEVENT

END:VCALENDAR
