BEGIN:VCALENDAR
VERSION:2.0
PRODID:-//ChamberMaster//Event Calendar 2.0//EN
METHOD:PUBLISH
X-PUBLISHED-TTL:P3D
REFRESH-INTERVAL:P3D
CALSCALE:GREGORIAN
BEGIN:VEVENT
DTSTART:20250705T220000Z
DTEND:20250706T010000Z
X-MICROSOFT-CDO-ALLDAYEVENT:FALSE
SUMMARY:Overlook Quartet - New Way of Looking at Old Things
DESCRIPTION:Monica Davis\, violin Yezu Woo\, violin\n\nAngela Pickett\, viola Laura Metcalf\, cello\n\nTanya Birl-Torres\n\nChoreographer and Storyteller\n \n\n Music Program\n\nGabriela Smith\, Carrot Revolution\n\nColeridge-Taylor Perkinson\, String Quartet no.1 "Calvary"\n\nShanan Estreicher\, I Laughed So Hard I Cried\n\nTrevor Weston\, Juba\n\nEleonor Alberga\, String Quartet no. 2 \n\nThis unusual and exciting program presented by the Overlook Quartet opens with the dazzling work by Gabriela Smith.  She refers to a C zanne quote: "The day will come when a single\, freshly observed carrot will start a revolution." Gabriela decided immediately to call her piece Carrot Revolution. She envisioned the piece as a celebration of that spirit of fresh observation and of new ways of looking at old things\, such as the string quartet   a 250-year-old genre   as well as some of older musical influences (Bach\, Perotin\, Gregorian chant\, Georgian folk songs\, and Celtic fiddle tunes).  The program's closing piece\, Jamaican composer Eleonor Alberga's String Quartet n. 2\, takes listeners on an emotional journey through her creative mind and the cohesive\, dynamic art of the string quartet.\n\nThis program features the storyteller Tanya Birl-Torres along with the Overlook Quartet for an exploration of ancestral storytelling\, and the cultural and artistic knowledge shared through oral traditions\, a reading of a new folktale\, and an activity including the audience to foster a deeper community connection and add to the sensory experience.
X-ALT-DESC;FMTTYPE=text/html:<p dir="ltr" style="line-height:1.38\;margin-top:0pt\;margin-bottom:0pt\;"><span style="font-size: 11pt\; font-family: &quot\;Google Sans Text&quot\;\; color: rgb(0\, 0\, 0)\; background-color: transparent\; font-weight: 700\; font-style: italic\; font-variant-numeric: normal\; font-variant-east-asian: normal\; font-variant-alternates: normal\; font-variant-position: normal\; font-variant-emoji: normal\; vertical-align: baseline\; white-space-collapse: preserve\;">Monica Davis\, violin Yezu Woo\, violin</span></p>\n\n<p dir="ltr" style="line-height:1.38\;margin-top:0pt\;margin-bottom:0pt\;"><span style="font-size: 11pt\; font-family: &quot\;Google Sans Text&quot\;\; color: rgb(0\, 0\, 0)\; background-color: transparent\; font-weight: 700\; font-style: italic\; font-variant-numeric: normal\; font-variant-east-asian: normal\; font-variant-alternates: normal\; font-variant-position: normal\; font-variant-emoji: normal\; vertical-align: baseline\; white-space-collapse: preserve\;">Angela Pickett\, viola Laura Metcalf\, cello</span></p>\n\n<p dir="ltr" style="line-height:1.38\;margin-top:0pt\;margin-bottom:0pt\;"><span style="font-size: 11pt\; font-family: &quot\;Google Sans Text&quot\;\; color: rgb(0\, 0\, 0)\; background-color: transparent\; font-weight: 700\; font-style: italic\; font-variant-numeric: normal\; font-variant-east-asian: normal\; font-variant-alternates: normal\; font-variant-position: normal\; font-variant-emoji: normal\; vertical-align: baseline\; white-space-collapse: preserve\;">Tanya Birl-Torres</span></p>\n\n<p dir="ltr" style="line-height:1.38\;margin-top:0pt\;margin-bottom:0pt\;"><span style="font-size: 11pt\; font-family: &quot\;Google Sans Text&quot\;\; color: rgb(0\, 0\, 0)\; background-color: transparent\; font-weight: 700\; font-style: italic\; font-variant-numeric: normal\; font-variant-east-asian: normal\; font-variant-alternates: normal\; font-variant-position: normal\; font-variant-emoji: normal\; vertical-align: baseline\; white-space-collapse: preserve\;">Choreographer and Storyteller</span></p>\n&nbsp\;\n\n<p dir="ltr" style="line-height:1.38\;margin-top:0pt\;margin-bottom:0pt\;"><span style="font-size: 11pt\; font-family: &quot\;Google Sans Text&quot\;\; color: rgb(0\, 0\, 0)\; background-color: transparent\; font-style: italic\; font-variant-numeric: normal\; font-variant-east-asian: normal\; font-variant-alternates: normal\; font-variant-position: normal\; font-variant-emoji: normal\; vertical-align: baseline\; white-space-collapse: preserve\;">&#8203\;Music Program</span></p>\n\n<p dir="ltr" style="line-height:1.38\;margin-top:0pt\;margin-bottom:0pt\;"><span style="font-size: 11pt\; font-family: &quot\;Google Sans Text&quot\;\; color: rgb(0\, 0\, 0)\; background-color: transparent\; font-style: italic\; font-variant-numeric: normal\; font-variant-east-asian: normal\; font-variant-alternates: normal\; font-variant-position: normal\; font-variant-emoji: normal\; vertical-align: baseline\; white-space-collapse: preserve\;">Gabriela Smith\, Carrot Revolution</span></p>\n\n<p dir="ltr" style="line-height:1.38\;margin-top:0pt\;margin-bottom:0pt\;"><span style="font-size: 11pt\; font-family: &quot\;Google Sans Text&quot\;\; color: rgb(0\, 0\, 0)\; background-color: transparent\; font-style: italic\; font-variant-numeric: normal\; font-variant-east-asian: normal\; font-variant-alternates: normal\; font-variant-position: normal\; font-variant-emoji: normal\; vertical-align: baseline\; white-space-collapse: preserve\;">Coleridge-Taylor Perkinson\, String Quartet no.1 &quot\;Calvary&quot\;</span></p>\n\n<p dir="ltr" style="line-height:1.38\;margin-top:0pt\;margin-bottom:0pt\;"><span style="font-size: 11pt\; font-family: &quot\;Google Sans Text&quot\;\; color: rgb(0\, 0\, 0)\; background-color: transparent\; font-style: italic\; font-variant-numeric: normal\; font-variant-east-asian: normal\; font-variant-alternates: normal\; font-variant-position: normal\; font-variant-emoji: normal\; vertical-align: baseline\; white-space-collapse: preserve\;">Shanan Estreicher\, I Laughed So Hard I Cried</span></p>\n\n<p dir="ltr" style="line-height:1.38\;margin-top:0pt\;margin-bottom:0pt\;"><span style="font-size: 11pt\; font-family: &quot\;Google Sans Text&quot\;\; color: rgb(0\, 0\, 0)\; background-color: transparent\; font-style: italic\; font-variant-numeric: normal\; font-variant-east-asian: normal\; font-variant-alternates: normal\; font-variant-position: normal\; font-variant-emoji: normal\; vertical-align: baseline\; white-space-collapse: preserve\;">Trevor Weston\, Juba</span></p>\n\n<p dir="ltr" style="line-height:1.38\;margin-top:0pt\;margin-bottom:0pt\;"><span style="font-size: 11pt\; font-family: &quot\;Google Sans Text&quot\;\; color: rgb(0\, 0\, 0)\; background-color: transparent\; font-style: italic\; font-variant-numeric: normal\; font-variant-east-asian: normal\; font-variant-alternates: normal\; font-variant-position: normal\; font-variant-emoji: normal\; vertical-align: baseline\; white-space-collapse: preserve\;">Eleonor Alberga\, String Quartet no. 2&nbsp\;</span></p>\n\n<p dir="ltr" style="line-height:1.38\;margin-top:0pt\;margin-bottom:0pt\;"><span style="font-size: 11pt\; font-family: &quot\;Google Sans Text&quot\;\; color: rgb(0\, 0\, 0)\; background-color: transparent\; font-variant-numeric: normal\; font-variant-east-asian: normal\; font-variant-alternates: normal\; font-variant-position: normal\; font-variant-emoji: normal\; vertical-align: baseline\; white-space-collapse: preserve\;">This unusual and exciting program presented by the Overlook Quartet opens with the dazzling work by Gabriela Smith.&nbsp\; She refers to a C&eacute\;zanne quote: &ldquo\;The day will come when a single\, freshly observed carrot will start a revolution.&rdquo\; Gabriela decided immediately to call her piece </span><span style="font-size: 11pt\; font-family: &quot\;Google Sans Text&quot\;\; color: rgb(0\, 0\, 0)\; background-color: transparent\; font-style: italic\; font-variant-numeric: normal\; font-variant-east-asian: normal\; font-variant-alternates: normal\; font-variant-position: normal\; font-variant-emoji: normal\; vertical-align: baseline\; white-space-collapse: preserve\;">Carrot Revolution</span><span style="font-size: 11pt\; font-family: &quot\;Google Sans Text&quot\;\; color: rgb(0\, 0\, 0)\; background-color: transparent\; font-variant-numeric: normal\; font-variant-east-asian: normal\; font-variant-alternates: normal\; font-variant-position: normal\; font-variant-emoji: normal\; vertical-align: baseline\; white-space-collapse: preserve\;">. She envisioned the piece as a celebration of that spirit of fresh observation and of </span><span style="font-size: 11pt\; font-family: &quot\;Google Sans Text&quot\;\; color: rgb(0\, 0\, 0)\; background-color: transparent\; font-weight: 700\; font-variant-numeric: normal\; font-variant-east-asian: normal\; font-variant-alternates: normal\; font-variant-position: normal\; font-variant-emoji: normal\; vertical-align: baseline\; white-space-collapse: preserve\;">new ways of looking at old things</span><span style="font-size: 11pt\; font-family: &quot\;Google Sans Text&quot\;\; color: rgb(0\, 0\, 0)\; background-color: transparent\; font-variant-numeric: normal\; font-variant-east-asian: normal\; font-variant-alternates: normal\; font-variant-position: normal\; font-variant-emoji: normal\; vertical-align: baseline\; white-space-collapse: preserve\;">\, such as the string quartet &ndash\; a 250-year-old genre &ndash\; as well as some of older musical influences (Bach\, Perotin\, Gregorian chant\, Georgian folk songs\, and Celtic fiddle tunes).&nbsp\; The program&#39\;s closing piece\, Jamaican composer Eleonor Alberga&#39\;s String Quartet n. 2\, takes listeners on an emotional journey through her creative mind and the cohesive\, dynamic art of the string quartet.</span></p>\n\n<p dir="ltr" style="line-height:1.38\;margin-top:0pt\;margin-bottom:0pt\;"><span style="font-size: 11pt\; font-family: &quot\;Google Sans Text&quot\;\; color: rgb(0\, 0\, 0)\; background-color: transparent\; font-variant-numeric: normal\; font-variant-east-asian: normal\; font-variant-alternates: normal\; font-variant-position: normal\; font-variant-emoji: normal\; vertical-align: baseline\; white-space-collapse: preserve\;">This program features the storyteller Tanya Birl-Torres along with the Overlook Quartet for an exploration of ancestral storytelling\, and the cultural and artistic knowledge shared through oral traditions\, a reading of a new folktale\, and an activity including the audience to foster a deeper community connection and add to the sensory experience.&nbsp\; </span></p>\n
LOCATION:Landcraft Garden Foundation 4342 Grand Ave\, Mattituck\, NY 11952
UID:e.3612.945
SEQUENCE:3
DTSTAMP:20260423T044126Z
URL:https://northfork-gzcms.preview.gochambermaster.com/events/details/overlook-quartet-new-way-of-looking-at-old-things-945
END:VEVENT

END:VCALENDAR
