BEGIN:VCALENDAR
VERSION:2.0
PRODID:-//ChamberMaster//Event Calendar 2.0//EN
METHOD:PUBLISH
X-PUBLISHED-TTL:P3D
REFRESH-INTERVAL:P3D
CALSCALE:GREGORIAN
BEGIN:VEVENT
DTSTART:20230801T220000Z
DTEND:20230802T000000Z
X-MICROSOFT-CDO-ALLDAYEVENT:FALSE
SUMMARY:A Night at the Vineyards
DESCRIPTION:The North Fork Breast Health Coalition is holding a "A Night at the Vineyards" on Tuesday\, August 1\, 6-8 PM\, at Sannino Vineyard\, to benefit the Keri Lynn Stromski Stage IV Breast Cancer Research and Support Fund. Including last August's event\, this is the second such fundraiser that the vineyard has hosted. The NFBHC Stage IV Fund provides financial support to oncologists who are treating local patients and are actively doing cutting edge research on extending and saving lives of Stage IV breast cancer patients. It also supports Stage IV thrivers who often have unexpected costs and expenses associated with their treatment. The $50 suggested minimum donation includes a complimentary glass of wine from Sannino and light fare provided by The Catered Fork. The evening will also include raffles and live music by Erin Chase. Reserve your spot at http://www.northforkbreasthealth.org. If you have any questions\, e-mail nfbreasthealth@gmail.com or call 631-208-8889.
X-ALT-DESC;FMTTYPE=text/html:The North Fork Breast Health Coalition is holding a &quot\;A Night at the Vineyards&quot\; on Tuesday\, August 1\, 6-8 PM\, at Sannino Vineyard\, to benefit the Keri Lynn Stromski Stage IV Breast Cancer Research and Support Fund. Including last August&#39\;s event\, this is the second such fundraiser that the vineyard has hosted. The NFBHC Stage IV Fund provides financial support to oncologists who are treating local patients and are actively doing cutting edge research on extending and saving lives of Stage IV breast cancer patients. It also supports Stage IV thrivers who often have unexpected costs and expenses associated with their treatment. The $50 suggested minimum donation includes a complimentary glass of wine from Sannino and light fare provided by The Catered Fork. The evening will also include raffles and live music by Erin Chase. Reserve your spot at http://www.northforkbreasthealth.org. If you have any questions\, e-mail nfbreasthealth@gmail.com or call 631-208-8889.
LOCATION:15975 County Road 48\, Cutchogue.
UID:e.3612.708
SEQUENCE:3
DTSTAMP:20260425T153407Z
URL:https://northfork-gzcms.preview.gochambermaster.com/events/details/a-night-at-the-vineyards-708
END:VEVENT

END:VCALENDAR
