BEGIN:VCALENDAR
VERSION:2.0
PRODID:-//ChamberMaster//Event Calendar 2.0//EN
METHOD:PUBLISH
X-PUBLISHED-TTL:P3D
REFRESH-INTERVAL:P3D
CALSCALE:GREGORIAN
BEGIN:VEVENT
DTSTART:20250224T230000Z
DTEND:20250225T020000Z
X-MICROSOFT-CDO-ALLDAYEVENT:FALSE
SUMMARY:2025 February Dinner Meeting
DESCRIPTION:Legends will host our February networking dinner meeting that will feature guest speaker Gene Walker of the McMann Price Agency in Greenport. Gene will cover key topics on cybersecurity and ransomware protection\, along with practical ways to reduce insurance costs on the North Fork. From self-insuring to adjusting deductibles\, he'll share valuable strategies to help navigate increasing premiums.\n\n\n\nWe will also include a mini-networking segment\, giving everyone a chance to share their own elevator pitch. And remember to bring business cards to share\, and also to include in the WLNG Chamber Report sponsorship giveaway. The winner's business will be introduced on-air as the North Fork Chamber of Commerce Chamber Report sponsor followed by a brief description of the business.
X-ALT-DESC;FMTTYPE=text/html:Legends will host our February networking dinner meeting that will feature&nbsp\;guest speaker <strong>Gene Walker</strong> of the <strong>McMann Price Agency in Greenport</strong>. Gene will cover key topics on <strong>cybersecurity and ransomware protection</strong>\, along with practical ways to <strong>reduce insurance costs</strong> on the North Fork. From <strong>self-insuring</strong> to <strong>adjusting deductibles</strong>\, he&rsquo\;ll share valuable strategies to help navigate increasing premiums.<br />\n<br />\nWe will also include a mini-networking segment\, giving everyone a chance to share their own elevator pitch. And remember to bring business cards to share\, and also to include in the WLNG Chamber Report sponsorship giveaway.&nbsp\;The winner&#39\;s business will be introduced on-air as the North Fork Chamber of Commerce Chamber Report sponsor followed by a brief description of the business.&nbsp\;
LOCATION:Legend's Restaurant 835 1st Street\, New Suffolk\, NY 11956
UID:e.3612.905
SEQUENCE:3
DTSTAMP:20260423T163532Z
URL:https://northfork-gzcms.preview.gochambermaster.com/events/details/2025-february-dinner-meeting-905
END:VEVENT

END:VCALENDAR
